BEGIN:VCALENDAR
PRODID:-//eluceo/ical//2.0/EN
VERSION:2.0
CALSCALE:GREGORIAN
BEGIN:VEVENT
UID:Baywa r.e.
DTSTAMP:20260424T190145Z
SUMMARY:Instalación y configuración del nuevo inversor trifásico MC0 de 
 Huawei
DESCRIPTION:con el equipo técnico de BayWa r.e.\nEl próximo&nbsp\;12 de m
 ayo a las 10 h\, el equipo técnico de&nbsp\;BayWa r.e.&nbsp\;impartirá u
 n nuevo webinar formativo centrado en la&nbsp\;instalación y configuraci
 ón del nuevo MC0 de&nbsp\;Huawei FusionSolar.\n\nDurante la sesión apren
 derás paso a paso cómo instalar y configurar el&nbsp\;inversor trifásic
 o SUN2000-30KTL-MC0\, conocerás sus principales prestaciones y resolverá
 s dudas técnicas de la mano de nuestros especialistas.\n\nEntre sus carac
 terísticas destacan:\n 5 años de garantía Protecciones AC/DC contra sob
 retensión tipo II Compatibilidad con optimizadores Huawei MERC-1100/1300W
 -P \n\nUna formación imprescindible para mejorar tus conocimientos técni
 cos y sacar el máximo partido a esta nueva solución.
DTSTART:20260512T080000Z
DTEND:20250512T083000Z
LOCATION:Online
END:VEVENT
BEGIN:VTIMEZONE
TZID:UTC
END:VTIMEZONE
END:VCALENDAR
