BEGIN:VCALENDAR
PRODID:-//eluceo/ical//2.0/EN
VERSION:2.0
CALSCALE:GREGORIAN
BEGIN:VEVENT
UID:Baywa r.e.
DTSTAMP:20260424T203146Z
SUMMARY:Potencia el rendimiento de tus instalaciones en fachada con novoteg
 ra
DESCRIPTION:Mejora el rendimiento de tus fachadas con las soluciones de nov
 otegra en el proximo webinar de la BayWa r.e. Academy. ¡No te lo pierdas!
 \n¿Cómo potenciar el rendimiento de tus instalaciones en fachada? Descub
 re en el próximo webinar las&nbsp\;innovadoras soluciones de novotegra&nb
 sp\;con sus estructruas fotovoltaicas para instalaciones en fachada.\n&nbs
 p\;\nFecha:&nbsp\;28 de abril Hora:&nbsp\;10:00 ⏳&nbsp\;Duración:&nbsp\
 ;¡Solo 30 minutos!\n&nbsp\;\nDurante esta sesión\, te enseñaremos cómo
 &nbsp\;optimizar el rendimiento de las instalaciones en fachada&nbsp\;con 
 las estructuras fotovoltaicas de novotegra. Descubre la versatilidad de su
 s soluciones\, ideales para todo tipo de proyectos\, y cómo pueden ayudar
 te a aprovechar al máximo el espacio vertical.\n&nbsp\;\nEste breve webin
 ar está pensado para profesionales del sector que buscan estar a la vangu
 ardia en soluciones eficientes y sostenibles. ¡No te lo pierdas!
DTSTART:20260428T080000Z
DTEND:20260428T090000Z
LOCATION:Online
END:VEVENT
BEGIN:VTIMEZONE
TZID:UTC
END:VTIMEZONE
END:VCALENDAR
