BEGIN:VCALENDAR
PRODID:-//eluceo/ical//2.0/EN
VERSION:2.0
CALSCALE:GREGORIAN
BEGIN:VEVENT
UID:Baywa r.e.
DTSTAMP:20260424T205717Z
SUMMARY:BayWa r.e. Responde: Solucionamos tus incidencias con Huawei
DESCRIPTION:Resolvemos las dudas más comunes que te van surgiendo en tus i
 nstalaciones del día a día con Huawei.\nÚnete a nuestro próximo webina
 r y participa en la quinta edición del BayWa r.e. Responde\, donde resolv
 eremos los&nbsp\;problemas y las dudas más comunes&nbsp\;que surgen en la
 s instalaciones del día a día con Huawei.\n\nEn BayWa r.e. entendemos qu
 e la excelencia en el servicio postventa es esencial para el éxito de nue
 stros instaladores. En cada sesión de BayWa r.e. Responde\, propondremos 
 soluciones prácticas y estrategias efectivas para superar cualquier desaf
 ío. El equipo de servicio técnico proporcionará&nbsp\;respuestas claras
 &nbsp\;para garantizar que cada instalador esté equipado con las herramie
 ntas necesarias.\n\n¡Regístrate ahora y reserva tu plaza!
DTSTART:20260609T080000Z
DTEND:20260609T083000Z
LOCATION:Online
END:VEVENT
BEGIN:VTIMEZONE
TZID:UTC
END:VTIMEZONE
END:VCALENDAR
